BEGIN:VCALENDAR
VERSION:2.0
PRODID:-//wp-events-plugin.com//6.6.3//EN
BEGIN:VEVENT
UID:8@preetypathania.com
DTSTART:20250407T190000Z
DTEND:20250407T220000Z
DTSTAMP:20250401T103543Z
URL:https://preetypathania.com/events/chembur/
SUMMARY:Chembur
DESCRIPTION:
LOCATION:https://maps.app.goo.gl/UPRVCLnUebAEdqKz7
END:VEVENT
END:VCALENDAR