BEGIN:VCALENDAR
VERSION:2.0
PRODID:-//wp-events-plugin.com//6.6.3//EN
BEGIN:VEVENT
UID:1@preetypathania.com
DTSTART;VALUE=DATE:20250130
DTEND;VALUE=DATE:20250131
DTSTAMP:20250124T063445Z
URL:https://preetypathania.com/events/jagrata-party/
SUMMARY:Jagrata Party
DESCRIPTION:It brings me immense joy to share my music with all of you. Eac
 h song I sing is a piece of my heart\, and I truly hope it resonates with 
 you as deeply as it does with me. I have poured all my heart into them\, a
 nd I humbly ask you to shower them with the same love and respect.
LOCATION:https://g.co/kgs/svyjagg
END:VEVENT
END:VCALENDAR