BEGIN:VCALENDAR
VERSION:2.0
PRODID:-//wp-events-plugin.com//6.6.3//EN
BEGIN:VEVENT
UID:6@preetypathania.com
DTSTART:20250405T190000Z
DTEND:20250405T220000Z
DTSTAMP:20250401T103509Z
URL:https://preetypathania.com/events/mira-road/
SUMMARY:Mira Road
DESCRIPTION:
LOCATION:https://maps.app.goo.gl/oDKxPy6Hc57ZCHGX9
END:VEVENT
END:VCALENDAR