BEGIN:VCALENDAR
VERSION:2.0
PRODID:-//wp-events-plugin.com//6.6.3//EN
BEGIN:VEVENT
UID:7@preetypathania.com
DTSTART:20250406T190000Z
DTEND:20250406T220000Z
DTSTAMP:20250401T103524Z
URL:https://preetypathania.com/hi/events/kandivali-thakur-village/
SUMMARY:Kandivali Thakur Village
DESCRIPTION:
LOCATION:https://maps.app.goo.gl/peS9yocSkNvCcmB87
END:VEVENT
END:VCALENDAR