BEGIN:VCALENDAR
VERSION:2.0
PRODID:-//wp-events-plugin.com//6.6.3//EN
BEGIN:VEVENT
UID:3@preetypathania.com
DTSTART:20250401T000000Z
DTEND:20250401T000000Z
DTSTAMP:20250331T192418Z
URL:https://preetypathania.com/hi/events/napeansea-road/
SUMMARY:Napeansea Road
DESCRIPTION:
LOCATION:https://maps.app.goo.gl/GEepZXrVGH1v6uAK8
END:VEVENT
END:VCALENDAR