BEGIN:VCALENDAR
VERSION:2.0
PRODID:-//wp-events-plugin.com//6.6.3//EN
BEGIN:VEVENT
UID:4@preetypathania.com
DTSTART:20250403T190000Z
DTEND:20250403T220000Z
DTSTAMP:20250401T103435Z
URL:https://preetypathania.com/hi/events/panvel-thanda-colony/
SUMMARY:Panvel Thanda Colony
DESCRIPTION:
LOCATION:https://maps.app.goo.gl/RvLbKwkjJpC8gPcu8
END:VEVENT
END:VCALENDAR