BEGIN:VCALENDAR
VERSION:2.0
PRODID:-//wp-events-plugin.com//6.6.3//EN
BEGIN:VEVENT
UID:2@preetypathania.com
DTSTART:20250331T000000Z
DTEND:20250331T000000Z
DTSTAMP:20250331T192107Z
URL:https://preetypathania.com/hi/events/sion-pahadi-mandir/
SUMMARY:Sion Pahadi Mandir
DESCRIPTION:
LOCATION:https://maps.app.goo.gl/CyQjoCvcRotbbU4p7
END:VEVENT
END:VCALENDAR