BEGIN:VCALENDAR
VERSION:2.0
PRODID:-//wp-events-plugin.com//6.6.3//EN
BEGIN:VEVENT
UID:5@preetypathania.com
DTSTART:20250404T190000Z
DTEND:20250404T220000Z
DTSTAMP:20250401T103449Z
URL:https://preetypathania.com/hi/events/ulhasnagar-rajain-mata-mandir/
SUMMARY:Ulhasnagar Rajain Mata Mandir
DESCRIPTION:
LOCATION:https://maps.app.goo.gl/Az32t6akqT29QJFHA
END:VEVENT
END:VCALENDAR